BEGIN:VCALENDAR
PRODID:-//github.com/rianjs/ical.net//NONSGML ical.net 4.0//EN
VERSION:2.0
BEGIN:VEVENT
CATEGORIES:Chess
DTEND;VALUE=DATE:20260430
DTSTAMP:20250923T160436Z
DTSTART;VALUE=DATE:20260430
LOCATION:Metropolitan
SEQUENCE:0
STATUS:CONFIRMED
SUMMARY:Metropolitan v Hackney 1
TIME:18:30
TRANSP:TRANSPARENT
UID:131605@ecflms.org.uk
URL:https://lms.englishchess.org.uk/lms/event/131605
END:VEVENT
END:VCALENDAR
